BEGIN:VCALENDAR
VERSION:2.0
PRODID:-//King&#039;s School Rochester - ECPv6.10.1.1//NONSGML v1.0//EN
CALSCALE:GREGORIAN
METHOD:PUBLISH
X-ORIGINAL-URL:https://kings-rochester.co.uk
X-WR-CALDESC:Events for King&#039;s School Rochester
REFRESH-INTERVAL;VALUE=DURATION:PT1H
X-Robots-Tag:noindex
X-PUBLISHED-TTL:PT1H
BEGIN:VTIMEZONE
TZID:Europe/London
BEGIN:DAYLIGHT
TZOFFSETFROM:+0000
TZOFFSETTO:+0100
TZNAME:BST
DTSTART:20260329T010000
END:DAYLIGHT
BEGIN:STANDARD
TZOFFSETFROM:+0100
TZOFFSETTO:+0000
TZNAME:GMT
DTSTART:20261025T010000
END:STANDARD
END:VTIMEZONE
BEGIN:VEVENT
DTSTART;VALUE=DATE:20260310
DTEND;VALUE=DATE:20260316
DTSTAMP:20260424T130123
CREATED:20260310T102230Z
LAST-MODIFIED:20260310T102230Z
UID:22453-1773100800-1773619199@kings-rochester.co.uk
SUMMARY:Camp Beaumont
DESCRIPTION:We are pleased to announce a special offer running this weekend in collaboration with our partners at Camp Beaumont. To celebrate Mother’s Day and all the wonderful people who care for their children\, you can enjoy 15% off Easter camps between Saturday 14th to Sunday 15th March (11.59pm). \nSimply use code MUM15 at checkout for day camps just under £45 per day when booking a full week\, or £49 for individual days. \nUnsure of your plans? Add Flex to your booking for £4/day to change your booking anytime\, right up until the last minute! You can also spread your payment over 3 instalments or delay the payment for 28 days when you select Klarna as a payment option. \nThis is a limited time offer so don’t miss out on this fantastic opportunity and secure your place now on www.campbeaumont.co.uk
URL:https://kings-rochester.co.uk/event/camp-beaumont-4/
LOCATION:King’s School Hall\, Kings School Hall\, Rochester\, Kent\, ME11SX\, United Kingdom
CATEGORIES:Junior School,Whole School Events
ATTACH;FMTTYPE=image/jpeg:https://kings-rochester.co.uk/wp-content/uploads/2026/01/Camp-Beaumont-1.jpg
ORGANIZER;CN="Drama and Theatre Department":MAILTO:seniorschool@kings-rochester.co.uk
END:VEVENT
BEGIN:VEVENT
DTSTART;TZID=Europe/London:20260320T180000
DTEND;TZID=Europe/London:20260630T180000
DTSTAMP:20260424T130123
CREATED:20260130T155238Z
LAST-MODIFIED:20260320T121106Z
UID:21896-1774029600-1782842400@kings-rochester.co.uk
SUMMARY:Dine and Tour
DESCRIPTION:Dine and Tour at School House \n\nAVAILABLE EVERYDAY – ADVANCED BOOKING ESSENTIAL \nAre you interested in finding our more about boarding at King’s? \nWould you like to sample our King’s evening catering? \nYour child can join after school and participate in first prep and you can join from 6:30pm to enjoy a tour and dinner together. \nContact Mr. Carroll to arrange an evening at School House where you can enjoy a tour of our boarding facilities and enjoy our evening catering. \nEmail Mr. Carroll at boarding@kings-rochester.co.uk \nLocation: \n20 Crow Lane\, \nME11RQ
URL:https://kings-rochester.co.uk/event/dine-and-tour/
LOCATION:King’s School Hall\, Kings School Hall\, Rochester\, Kent\, ME11SX\, United Kingdom
CATEGORIES:Junior School,Senior School Events
ATTACH;FMTTYPE=image/jpeg:https://kings-rochester.co.uk/wp-content/uploads/2026/01/dine-and-tour.jpg
ORGANIZER;CN="Junior School":MAILTO:junior@kings-rochester.co.uk
END:VEVENT
BEGIN:VEVENT
DTSTART;TZID=Europe/London:20260323T160000
DTEND;TZID=Europe/London:20260323T170000
DTSTAMP:20260424T130123
CREATED:20260320T133946Z
LAST-MODIFIED:20260320T134648Z
UID:22638-1774281600-1774285200@kings-rochester.co.uk
SUMMARY:Junior Music Showcase - Part 1
DESCRIPTION:Junior Music Showcase – Part 1 \n\nMonday 23rd March 2026\, 4pm \nYears 1 – 3 & KSR Ballet \nLocation: \nChadlington Hall
URL:https://kings-rochester.co.uk/event/junior-music-showcase-part-1/
LOCATION:Chadlington Hall\, Chadlington House\, Lockington Grove\, Rochester\, Kent\, ME1 1RH\, United Kingdom
CATEGORIES:Junior School
ATTACH;FMTTYPE=image/jpeg:https://kings-rochester.co.uk/wp-content/uploads/2026/03/Junior-Music-Showcase-part-1.jpg
ORGANIZER;CN="Junior School":MAILTO:junior@kings-rochester.co.uk
END:VEVENT
BEGIN:VEVENT
DTSTART;TZID=Europe/London:20260325T163000
DTEND;TZID=Europe/London:20260325T173000
DTSTAMP:20260424T130123
CREATED:20260320T134451Z
LAST-MODIFIED:20260320T134610Z
UID:22640-1774456200-1774459800@kings-rochester.co.uk
SUMMARY:Junior Music Showcase - Part 2
DESCRIPTION:Junior Music Showcase – Part 2 \n\nWednesday 25th March 2026\, 4:30pm \nYears 4 – 8 \nLocation: \nSchool Hall
URL:https://kings-rochester.co.uk/event/junior-music-showcase-part-2/
LOCATION:King’s School Hall\, Kings School Hall\, Rochester\, Kent\, ME11SX\, United Kingdom
CATEGORIES:Junior School
ATTACH;FMTTYPE=image/jpeg:https://kings-rochester.co.uk/wp-content/uploads/2026/03/Junior-Music-Showcase-part-2.jpg
ORGANIZER;CN="Junior School":MAILTO:junior@kings-rochester.co.uk
END:VEVENT
END:VCALENDAR