BEGIN:VCALENDAR
VERSION:2.0
PRODID:-//King&#039;s School Rochester - ECPv6.10.1.1//NONSGML v1.0//EN
CALSCALE:GREGORIAN
METHOD:PUBLISH
X-WR-CALNAME:King&#039;s School Rochester
X-ORIGINAL-URL:https://kings-rochester.co.uk
X-WR-CALDESC:Events for King&#039;s School Rochester
REFRESH-INTERVAL;VALUE=DURATION:PT1H
X-Robots-Tag:noindex
X-PUBLISHED-TTL:PT1H
BEGIN:VTIMEZONE
TZID:Europe/London
BEGIN:DAYLIGHT
TZOFFSETFROM:+0000
TZOFFSETTO:+0100
TZNAME:BST
DTSTART:20240331T010000
END:DAYLIGHT
BEGIN:STANDARD
TZOFFSETFROM:+0100
TZOFFSETTO:+0000
TZNAME:GMT
DTSTART:20241027T010000
END:STANDARD
END:VTIMEZONE
BEGIN:VEVENT
DTSTART;VALUE=DATE:20241206
DTEND;VALUE=DATE:20241207
DTSTAMP:20260422T233812
CREATED:20241121T153940Z
LAST-MODIFIED:20241129T164339Z
UID:16382-1733443200-1733529599@kings-rochester.co.uk
SUMMARY:PPS Christmas Events
DESCRIPTION:Pre-Preparatory and Preparatory School Christmas Events \nFriday 6 December\nPre-Preparatory Christmas Fayre\, 3:30 – 5:00pm\, Chadlington Hall \nJoin us for games stalls\, Santa’s grotto (£5)\, music\, colouring\, a scavenger hunt and more! \nFree entry with no booking necessary. Parental supervision required. \nPreparatory Y4\, 5 & 6 Christmas Party\, 5:30 – 7:00pm\, Chadlington Hall \nEnjoy pizza\, soft drinks\, music\, party games\, glow sticks\, dancing and more at our Christmas party! \n£7.50 per child with pre-booking required. Please book here. This is a PPS supervised event. \nPre-Preparatory After School Club\, 3:30 – 5:00pm \nWednesday 11 December \nJoin our PPS After school club (Pre-Prep. children only). \n£7.50 per child with pre-booking required. Please book here. This is a PPS supervised event.
URL:https://kings-rochester.co.uk/event/pps-christmas-events/
LOCATION:Chadlington Hall\, Chadlington House\, Lockington Grove\, Rochester\, Kent\, ME1 1RH\, United Kingdom
CATEGORIES:Nursery & Pre-Preparatory School Events
ATTACH;FMTTYPE=image/jpeg:https://kings-rochester.co.uk/wp-content/uploads/2024/11/Website-Events-5.jpg
END:VEVENT
END:VCALENDAR