BEGIN:VCALENDAR
VERSION:2.0
PRODID:-//King&#039;s School Rochester - ECPv6.10.1.1//NONSGML v1.0//EN
CALSCALE:GREGORIAN
METHOD:PUBLISH
X-WR-CALNAME:King&#039;s School Rochester
X-ORIGINAL-URL:https://kings-rochester.co.uk
X-WR-CALDESC:Events for King&#039;s School Rochester
REFRESH-INTERVAL;VALUE=DURATION:PT1H
X-Robots-Tag:noindex
X-PUBLISHED-TTL:PT1H
BEGIN:VTIMEZONE
TZID:Europe/London
BEGIN:DAYLIGHT
TZOFFSETFROM:+0000
TZOFFSETTO:+0100
TZNAME:BST
DTSTART:20250330T010000
END:DAYLIGHT
BEGIN:STANDARD
TZOFFSETFROM:+0100
TZOFFSETTO:+0000
TZNAME:GMT
DTSTART:20251026T010000
END:STANDARD
END:VTIMEZONE
BEGIN:VEVENT
DTSTART;TZID=Europe/London:20250704T190000
DTEND;TZID=Europe/London:20250704T190000
DTSTAMP:20260423T165031
CREATED:20250512T074813Z
LAST-MODIFIED:20250704T162455Z
UID:18065-1751655600-1751655600@kings-rochester.co.uk
SUMMARY:Summer Ball
DESCRIPTION:SUMMER BALL at King’s\nDate: Friday 4th JulyTime: 7.00pm – 12.00am (bar closes at 11.30pm)Venue: The Paddock\, Vines LaneDress Code: A Black-Tie Event\nA drinks reception will be held from 7.00pm to 7.30pm\, followed by a three-course meal with tea or coffee served post dining. Featuring live music from 10.00pm\, dancing is optional but recommended\, and carriages should be arranged for Midnight.
URL:https://kings-rochester.co.uk/event/summer-ball/
LOCATION:The Paddock\, The Paddock\, Vines Lane\, Rochester\, Kent\, ME11\, United Kingdom
CATEGORIES:Senior School Events,Sixth Form Events
ATTACH;FMTTYPE=image/jpeg:https://kings-rochester.co.uk/wp-content/uploads/2025/05/Midsummer-2025-invites-4-scaled.jpg
END:VEVENT
END:VCALENDAR