BEGIN:VCALENDAR
VERSION:2.0
PRODID:-//King&#039;s School Rochester - ECPv6.10.1.1//NONSGML v1.0//EN
CALSCALE:GREGORIAN
METHOD:PUBLISH
X-WR-CALNAME:King&#039;s School Rochester
X-ORIGINAL-URL:https://kings-rochester.co.uk
X-WR-CALDESC:Events for King&#039;s School Rochester
REFRESH-INTERVAL;VALUE=DURATION:PT1H
X-Robots-Tag:noindex
X-PUBLISHED-TTL:PT1H
BEGIN:VTIMEZONE
TZID:Europe/London
BEGIN:DAYLIGHT
TZOFFSETFROM:+0000
TZOFFSETTO:+0100
TZNAME:BST
DTSTART:20250330T010000
END:DAYLIGHT
BEGIN:STANDARD
TZOFFSETFROM:+0100
TZOFFSETTO:+0000
TZNAME:GMT
DTSTART:20251026T010000
END:STANDARD
END:VTIMEZONE
BEGIN:VEVENT
DTSTART;TZID=Europe/London:20250623T190000
DTEND;TZID=Europe/London:20250623T203000
DTSTAMP:20260423T211733
CREATED:20250620T150710Z
LAST-MODIFIED:20250620T151318Z
UID:18599-1750705200-1750710600@kings-rochester.co.uk
SUMMARY:Senior School Summer Concert
DESCRIPTION:Senior School Summer Concert at Rochester Cathedral\n23 June 2025 at 7 pm   \nSenior School Ensembles\nLeavers’ Solo Performances \nAll welcome
URL:https://kings-rochester.co.uk/event/senior-school-summer-concert/
LOCATION:Rochester Cathedral\, Rochester Cathedral\, Garth House\, The Precinct\, Rochester\, Kent\, ME11SX\, United Kingdom
CATEGORIES:Senior School Events,Sixth Form Events
ATTACH;FMTTYPE=image/jpeg:https://kings-rochester.co.uk/wp-content/uploads/2025/06/Midsummer-2025-invites-7-scaled.jpg
END:VEVENT
END:VCALENDAR