BEGIN:VCALENDAR
VERSION:2.0
PRODID:-//King&#039;s School Rochester - ECPv6.10.1.1//NONSGML v1.0//EN
CALSCALE:GREGORIAN
METHOD:PUBLISH
X-WR-CALNAME:King&#039;s School Rochester
X-ORIGINAL-URL:https://kings-rochester.co.uk
X-WR-CALDESC:Events for King&#039;s School Rochester
REFRESH-INTERVAL;VALUE=DURATION:PT1H
X-Robots-Tag:noindex
X-PUBLISHED-TTL:PT1H
BEGIN:VTIMEZONE
TZID:Europe/London
BEGIN:DAYLIGHT
TZOFFSETFROM:+0000
TZOFFSETTO:+0100
TZNAME:BST
DTSTART:20250330T010000
END:DAYLIGHT
BEGIN:STANDARD
TZOFFSETFROM:+0100
TZOFFSETTO:+0000
TZNAME:GMT
DTSTART:20251026T010000
END:STANDARD
END:VTIMEZONE
BEGIN:VEVENT
DTSTART;TZID=Europe/London:20250630T190000
DTEND;TZID=Europe/London:20250630T203000
DTSTAMP:20260423T225003
CREATED:20250620T151337Z
LAST-MODIFIED:20250620T152346Z
UID:18604-1751310000-1751315400@kings-rochester.co.uk
SUMMARY:Summer Concert of Music and Dance
DESCRIPTION:Summer Concert of Music and Dance in School Hall\n30 June 2025 at 7 pm   \nMusic Ensembles\nBallet from Preparatory School \nAll welcome
URL:https://kings-rochester.co.uk/event/summer-concert-of-music-and-dance-25/
LOCATION:King’s School Hall\, Kings School Hall\, Rochester\, Kent\, ME11SX\, United Kingdom
CATEGORIES:Preparatory School Events,Senior School Events,Sixth Form Events
ATTACH;FMTTYPE=image/jpeg:https://kings-rochester.co.uk/wp-content/uploads/2025/06/Midsummer-2025-invites-8-scaled.jpg
END:VEVENT
END:VCALENDAR