BEGIN:VCALENDAR
VERSION:2.0
PRODID:-//King&#039;s School Rochester - ECPv6.10.1.1//NONSGML v1.0//EN
CALSCALE:GREGORIAN
METHOD:PUBLISH
X-WR-CALNAME:King&#039;s School Rochester
X-ORIGINAL-URL:https://kings-rochester.co.uk
X-WR-CALDESC:Events for King&#039;s School Rochester
REFRESH-INTERVAL;VALUE=DURATION:PT1H
X-Robots-Tag:noindex
X-PUBLISHED-TTL:PT1H
BEGIN:VTIMEZONE
TZID:Europe/London
BEGIN:DAYLIGHT
TZOFFSETFROM:+0000
TZOFFSETTO:+0100
TZNAME:BST
DTSTART:20250330T010000
END:DAYLIGHT
BEGIN:STANDARD
TZOFFSETFROM:+0100
TZOFFSETTO:+0000
TZNAME:GMT
DTSTART:20251026T010000
END:STANDARD
END:VTIMEZONE
BEGIN:VEVENT
DTSTART;TZID=Europe/London:20250507T190000
DTEND;TZID=Europe/London:20250507T210000
DTSTAMP:20260424T124912
CREATED:20250430T110636Z
LAST-MODIFIED:20250501T104238Z
UID:18061-1746644400-1746651600@kings-rochester.co.uk
SUMMARY:King's Strategic Vision Information Evening
DESCRIPTION:You are invited to a special event on Wednesday 7th May at 7.00pm\, where we will be sharing our Strategic Vision for 2025–2030. \nThis evening will provide a valuable opportunity to hear more about the next exciting chapter for King’s. You will have the opportunity to meet our new Principal\, Simon Fisher\, who will be joining the school in September 2025\, and to discover more about our vision for the years ahead—including an enhanced curriculum\, investment in our facilities\, and the values and ambitions that will shape the future of our school. \nI very much hope you can join us. As always\, it will be a pleasure to welcome you and to share more about what lies ahead for our community. \nTo help us accommodate all who wish to attend\, please RSVP using the following link: RSVP here. \n 
URL:https://kings-rochester.co.uk/event/kings-strategic-vision-information-evening/
LOCATION:King’s School Hall\, Kings School Hall\, Rochester\, Kent\, ME11SX\, United Kingdom
CATEGORIES:Whole School Events
ATTACH;FMTTYPE=image/jpeg:https://kings-rochester.co.uk/wp-content/uploads/2025/04/Copy-of-4x6-Template-4-scaled.jpg
ORGANIZER;CN="Marketing Department":MAILTO:marketing@kings-rochester.co.uk
END:VEVENT
BEGIN:VEVENT
DTSTART;TZID=Europe/London:20250512T190000
DTEND;TZID=Europe/London:20250512T210000
DTSTAMP:20260424T124912
CREATED:20250512T075239Z
LAST-MODIFIED:20250512T075815Z
UID:18229-1747076400-1747083600@kings-rochester.co.uk
SUMMARY:Summer Singers' Showcase
DESCRIPTION:Summer Singers’ Showcase\nThe Music Department is excited to announce a new concert format which will take place on the evening of 12th May\, at 7pm in the School Hall. Join us as we enjoy solos and duets from our talented singers and songwriters. This informal evening will celebrate their hard work and passion for singing. Expect a diverse program showcasing a range of musical styles; we promise something for everyone.\nAll King’s pupils and parents welcome. \n  \n 
URL:https://kings-rochester.co.uk/event/summer-singers-showcase/
LOCATION:King’s School Hall\, Kings School Hall\, Rochester\, Kent\, ME11SX\, United Kingdom
CATEGORIES:Whole School Events
ATTACH;FMTTYPE=image/jpeg:https://kings-rochester.co.uk/wp-content/uploads/2025/05/Midsummer-2025-invites-1-scaled.jpg
ORGANIZER;CN="Drama and Theatre Department":MAILTO:seniorschool@kings-rochester.co.uk
END:VEVENT
BEGIN:VEVENT
DTSTART;TZID=Europe/London:20250519T160000
DTEND;TZID=Europe/London:20250519T170000
DTSTAMP:20260424T124913
CREATED:20250512T111442Z
LAST-MODIFIED:20250512T125451Z
UID:18232-1747670400-1747674000@kings-rochester.co.uk
SUMMARY:Pre-Prep Summer Musical Showcase
DESCRIPTION:Pre-Prep Summer Musical Showcase\nConference Centre – Monday 19th May at 4 pm\n\nThe Music Department warmly invites you to support our youngest instrumentalists in their Pre Prep Summer Showcase. This friendly and informal event builds confidence and joy in music-making as our Pre-Prep pupils take their first steps in performance.\nAll King’s pupils and parents welcome. \n  \n 
URL:https://kings-rochester.co.uk/event/pre-prep-summer-musical-showcase/
LOCATION:King’s School Hall\, Kings School Hall\, Rochester\, Kent\, ME11SX\, United Kingdom
CATEGORIES:Whole School Events
ATTACH;FMTTYPE=image/jpeg:https://kings-rochester.co.uk/wp-content/uploads/2025/05/Midsummer-2025-invites-3-scaled.jpg
ORGANIZER;CN="Drama and Theatre Department":MAILTO:seniorschool@kings-rochester.co.uk
END:VEVENT
BEGIN:VEVENT
DTSTART;VALUE=DATE:20250522
DTEND;VALUE=DATE:20250525
DTSTAMP:20260424T124913
CREATED:20250430T111942Z
LAST-MODIFIED:20250501T094649Z
UID:18063-1747872000-1748131199@kings-rochester.co.uk
SUMMARY:Shrek The Musical Jr
DESCRIPTION:Shrek The Musical Jr\nThursday 22 May & Friday 23 May\, 7pm\nSaturday 24 May\, 2pm \nCome and travel to the land of Far Far Away for a journey like no other. Join Shrek as he battles the evil Lord Farquaad for the rights to his home! With a whole host of familiar characters\, a dragon and plenty of catchy singing and dancing – it will be a show like no other! The Preparatory School is proud to present ‘Shrek The Musical Jr”! \nTickets are on sale now\, purchase yours here! \n  \n 
URL:https://kings-rochester.co.uk/event/shrek-the-musical-jr-2/
LOCATION:King’s School Hall\, Kings School Hall\, Rochester\, Kent\, ME11SX\, United Kingdom
CATEGORIES:Whole School Events
ATTACH;FMTTYPE=image/png:https://kings-rochester.co.uk/wp-content/uploads/2025/01/Online-Banner-01.png
ORGANIZER;CN="Drama and Theatre Department":MAILTO:seniorschool@kings-rochester.co.uk
END:VEVENT
BEGIN:VEVENT
DTSTART;VALUE=DATE:20250527
DTEND;VALUE=DATE:20250530
DTSTAMP:20260424T124913
CREATED:20250509T073017Z
LAST-MODIFIED:20250509T080752Z
UID:18153-1748304000-1748563199@kings-rochester.co.uk
SUMMARY:Holiday Club at King's
DESCRIPTION:Take away some of the pressure during the holiday times and let us entertain your child at our Holiday Club. \nOur fully supervised sessions are full of fun sports and creative activities designed to keep your child occupied throughout the day. \nWe have four different time slots daily\, giving you the opportunity to choose a session that suits your hectic schedule. \nBookings are being taken for:\nTuesday 27th May\nWednesday 28th May\nThursday 29th May\nBooking in advance is essential to secure a space as numbers are limited. Please see below for more information on our Holiday Activities and to how register your child. \nTo book please call the centre on 01634 818422. \nFor more information\, click here. \n  \n \n 
URL:https://kings-rochester.co.uk/event/holiday-club-at-kings-2/
LOCATION:King’s Sports Centre\, 601 Maidstone Rd\, Rochester\, Kent\, ME1 3QJ\, United Kingdom
CATEGORIES:Whole School Events
ATTACH;FMTTYPE=image/jpeg:https://kings-rochester.co.uk/wp-content/uploads/2025/05/Midsummer-2025-invites-scaled.jpg
END:VEVENT
END:VCALENDAR