BEGIN:VCALENDAR
VERSION:2.0
PRODID:-//King&#039;s School Rochester - ECPv6.10.1.1//NONSGML v1.0//EN
CALSCALE:GREGORIAN
METHOD:PUBLISH
X-WR-CALNAME:King&#039;s School Rochester
X-ORIGINAL-URL:https://kings-rochester.co.uk
X-WR-CALDESC:Events for King&#039;s School Rochester
REFRESH-INTERVAL;VALUE=DURATION:PT1H
X-Robots-Tag:noindex
X-PUBLISHED-TTL:PT1H
BEGIN:VTIMEZONE
TZID:Europe/London
BEGIN:DAYLIGHT
TZOFFSETFROM:+0000
TZOFFSETTO:+0100
TZNAME:BST
DTSTART:20250330T010000
END:DAYLIGHT
BEGIN:STANDARD
TZOFFSETFROM:+0100
TZOFFSETTO:+0000
TZNAME:GMT
DTSTART:20251026T010000
END:STANDARD
END:VTIMEZONE
BEGIN:VEVENT
DTSTART;TZID=Europe/London:20250612T190000
DTEND;TZID=Europe/London:20250612T203000
DTSTAMP:20260424T124932
CREATED:20250502T101036Z
LAST-MODIFIED:20250502T101036Z
UID:18113-1749754800-1749760200@kings-rochester.co.uk
SUMMARY:KSR Business Forum
DESCRIPTION:Following the success of our inaugural KSR Business Forum in February\, we are pleased to invite you to our next event\, which will be held on Thursday 12th June at 7:00pm in the historic Satis House and Gardens. \nTogether with our Principal Mr Charles\, and our Bursar Mr Ball\, Commercial Business Director David Faries will be hosting an evening designed to bring together commercially-minded members of our parent community. The forum aims to foster meaningful connections\, encourage the sharing of ideas\, and explore the challenges and opportunities facing local businesses. \nBehind the scenes\, we remain committed to navigating the current financial climate thoughtfully and responsibly. Our goal is to reduce pressure on our families wherever possible\, while continuing to build a strong\, sustainable future for the school. \nDuring the evening\, we will also share some of the commercial initiatives already in place at King’s that are generating valuable non-fee income\, as well as outline future plans for growth in this area. \nDrinks will be served from 7:00pm\, and attendance is limited to 80 guests on a first come\, first served basis. If you would like to attend\, please RSVP here by midday on Friday 23rd May.
URL:https://kings-rochester.co.uk/event/ksr-business-forum/
LOCATION:Satis House\, Satis House\, Boley Hill\, Rochester\, Medway\, Kent\, ME1 1TE\, United Kingdom
CATEGORIES:Whole School Events
ATTACH;FMTTYPE=image/jpeg:https://kings-rochester.co.uk/wp-content/uploads/2025/05/IMG_9806-scaled.jpg
END:VEVENT
BEGIN:VEVENT
DTSTART;TZID=Europe/London:20250618T190000
DTEND;TZID=Europe/London:20250618T200000
DTSTAMP:20260424T124932
CREATED:20250516T112001Z
LAST-MODIFIED:20250522T145835Z
UID:18250-1750273200-1750276800@kings-rochester.co.uk
SUMMARY:‘A Pointless Evening' with Alexander Armstrong and Lord Chadlington
DESCRIPTION:Tickets Available Now!\nOn Wednesday 18th June\, we will be hosting a unique event featuring the distinguished Lord Chadlington\, who will be conducting an engaging\, ‘Parkinson-style’ interview with Alexander Armstrong. \nAlexander Armstrong is an English comedian\, actor\, television and radio presenter\, and bass-baritone singer. Best known for his work on the BBC’s Pointless and Have I Got News for You and for presenting his daily radio programme on Classic FM\, Alexander brings charm\, insight\, and humour to everything he does. With Lord Chadlington’s thoughtful and experienced interview style\, this promises to be a truly memorable and enriching conversation.  \nThe event will take place in the School Hall at 7.00pm and drinks will be available to purchase beforehand from 6.15pm. Following the event there will be the chance to ask questions and socialise with fellow members of the school community. \nTickets are now available via this link.\nPrices are: £15 per adult and £8 per pupil. \nWe anticipate high demand\, so we encourage you to book early to avoid disappointment. We would be delighted if you could join us for what promises to be a truly special evening. \n 
URL:https://kings-rochester.co.uk/event/a-pointless-evening-with-alexander-armstrong-and-lord-chadlington/
LOCATION:King’s School Hall\, Kings School Hall\, Rochester\, Kent\, ME11SX\, United Kingdom
CATEGORIES:Old Roffensians,Preparatory School Events,Senior School Events,Sixth Form Events,Whole School Events
ATTACH;FMTTYPE=image/jpeg:https://kings-rochester.co.uk/wp-content/uploads/2025/05/Alexander-Armstrong-Invite-scaled.jpg
END:VEVENT
END:VCALENDAR