BEGIN:VCALENDAR
VERSION:2.0
PRODID:-//King&#039;s School Rochester - ECPv6.10.1.1//NONSGML v1.0//EN
CALSCALE:GREGORIAN
METHOD:PUBLISH
X-ORIGINAL-URL:https://kings-rochester.co.uk
X-WR-CALDESC:Events for King&#039;s School Rochester
REFRESH-INTERVAL;VALUE=DURATION:PT1H
X-Robots-Tag:noindex
X-PUBLISHED-TTL:PT1H
BEGIN:VTIMEZONE
TZID:Europe/London
BEGIN:DAYLIGHT
TZOFFSETFROM:+0000
TZOFFSETTO:+0100
TZNAME:BST
DTSTART:20250330T010000
END:DAYLIGHT
BEGIN:STANDARD
TZOFFSETFROM:+0100
TZOFFSETTO:+0000
TZNAME:GMT
DTSTART:20251026T010000
END:STANDARD
END:VTIMEZONE
BEGIN:VEVENT
DTSTART;VALUE=DATE:20250407
DTEND;VALUE=DATE:20250418
DTSTAMP:20260424T154632
CREATED:20250314T152951Z
LAST-MODIFIED:20250318T134039Z
UID:17729-1743984000-1744934399@kings-rochester.co.uk
SUMMARY:Holiday Club at King's
DESCRIPTION:Take away some of the pressure during the holiday times and let us entertain your child at our Holiday Club. \nOur fully supervised sessions are full of fun sports and creative activities designed to keep your child occupied throughout the day. \nDates are Monday 7th April to Friday 11th and Monday 14th to Thursday 17th \nWe have four different time slots daily\, giving you the opportunity to choose a session that suits your hectic schedule. \nBooking in advance is essential to secure a space as numbers are limited. Please see below for more information on our Holiday Activities and to how register your child. \nTo book please call the centre on 01634 818422. \nFor more information\, click here.
URL:https://kings-rochester.co.uk/event/holiday-club-at-kings/
LOCATION:King’s Sports Centre\, 601 Maidstone Rd\, Rochester\, Kent\, ME1 3QJ\, United Kingdom
CATEGORIES:Whole School Events
ATTACH;FMTTYPE=image/jpeg:https://kings-rochester.co.uk/wp-content/uploads/2025/03/Latest-News-Website-Resize-2.jpg
END:VEVENT
END:VCALENDAR