BEGIN:VCALENDAR
VERSION:2.0
PRODID:-//King&#039;s School Rochester - ECPv6.10.1.1//NONSGML v1.0//EN
CALSCALE:GREGORIAN
METHOD:PUBLISH
X-WR-CALNAME:King&#039;s School Rochester
X-ORIGINAL-URL:https://kings-rochester.co.uk
X-WR-CALDESC:Events for King&#039;s School Rochester
REFRESH-INTERVAL;VALUE=DURATION:PT1H
X-Robots-Tag:noindex
X-PUBLISHED-TTL:PT1H
BEGIN:VTIMEZONE
TZID:Europe/London
BEGIN:DAYLIGHT
TZOFFSETFROM:+0000
TZOFFSETTO:+0100
TZNAME:BST
DTSTART:20250330T010000
END:DAYLIGHT
BEGIN:STANDARD
TZOFFSETFROM:+0100
TZOFFSETTO:+0000
TZNAME:GMT
DTSTART:20251026T010000
END:STANDARD
END:VTIMEZONE
BEGIN:VEVENT
DTSTART;TZID=Europe/London:20250519T160000
DTEND;TZID=Europe/London:20250519T170000
DTSTAMP:20260424T154550
CREATED:20250512T111442Z
LAST-MODIFIED:20250512T125451Z
UID:18232-1747670400-1747674000@kings-rochester.co.uk
SUMMARY:Pre-Prep Summer Musical Showcase
DESCRIPTION:Pre-Prep Summer Musical Showcase\nConference Centre – Monday 19th May at 4 pm\n\nThe Music Department warmly invites you to support our youngest instrumentalists in their Pre Prep Summer Showcase. This friendly and informal event builds confidence and joy in music-making as our Pre-Prep pupils take their first steps in performance.\nAll King’s pupils and parents welcome. \n  \n 
URL:https://kings-rochester.co.uk/event/pre-prep-summer-musical-showcase/
LOCATION:King’s School Hall\, Kings School Hall\, Rochester\, Kent\, ME11SX\, United Kingdom
CATEGORIES:Whole School Events
ATTACH;FMTTYPE=image/jpeg:https://kings-rochester.co.uk/wp-content/uploads/2025/05/Midsummer-2025-invites-3-scaled.jpg
ORGANIZER;CN="Drama and Theatre Department":MAILTO:seniorschool@kings-rochester.co.uk
END:VEVENT
END:VCALENDAR