BEGIN:VCALENDAR
VERSION:2.0
PRODID:-//King&#039;s School Rochester - ECPv6.10.1.1//NONSGML v1.0//EN
CALSCALE:GREGORIAN
METHOD:PUBLISH
X-WR-CALNAME:King&#039;s School Rochester
X-ORIGINAL-URL:https://kings-rochester.co.uk
X-WR-CALDESC:Events for King&#039;s School Rochester
REFRESH-INTERVAL;VALUE=DURATION:PT1H
X-Robots-Tag:noindex
X-PUBLISHED-TTL:PT1H
BEGIN:VTIMEZONE
TZID:Europe/London
BEGIN:DAYLIGHT
TZOFFSETFROM:+0000
TZOFFSETTO:+0100
TZNAME:BST
DTSTART:20250330T010000
END:DAYLIGHT
BEGIN:STANDARD
TZOFFSETFROM:+0100
TZOFFSETTO:+0000
TZNAME:GMT
DTSTART:20251026T010000
END:STANDARD
END:VTIMEZONE
BEGIN:VEVENT
DTSTART;TZID=Europe/London:20251203T183000
DTEND;TZID=Europe/London:20251203T193000
DTSTAMP:20260422T111147
CREATED:20251114T142512Z
LAST-MODIFIED:20251114T153019Z
UID:21100-1764786600-1764790200@kings-rochester.co.uk
SUMMARY:Christmas Concert
DESCRIPTION:This year\, for the very first time\, the Junior and Senior School will come together for a spectacular Christmas concert in the School Hall!\nParents are invited to come along.\nMore information to come. \nSave the date in your diary. \n 
URL:https://kings-rochester.co.uk/event/christmas-concert/
LOCATION:King’s School Hall\, Kings School Hall\, Rochester\, Kent\, ME11SX\, United Kingdom
CATEGORIES:Whole School Events
ATTACH;FMTTYPE=image/jpeg:https://kings-rochester.co.uk/wp-content/uploads/2025/11/Christmas-Concert-scaled.jpg
END:VEVENT
END:VCALENDAR